BEGIN:VCALENDAR
VERSION:2.0
PRODID:-//Tukios.com/
BEGIN:VEVENT
UID:ce3f8710-277a-40a5-9998-856d03c484ca@www.brooksfuneralhomeky.com
DTSTAMP:20260422T233651Z
DTSTART:20260423T200000Z
DTEND:20260424T010000Z
SUMMARY:Visitation
DESCRIPTION:
URL:https://www.brooksfuneralhomeky.com/obituaries/david-srygler
LOCATION: 50 Main Street  Munfordville KY 42765
GEO:37.2705728;-85.8878369
END:VEVENT
END:VCALENDAR