BEGIN:VCALENDAR
VERSION:2.0
PRODID:-//Tukios.com/
BEGIN:VEVENT
UID:e7931f7f-c3af-40ed-8783-223292af88e0@www.brooksfuneralhomeky.com
DTSTAMP:20260422T232835Z
DTSTART:20260424T140000Z
DTEND:20260424T180000Z
SUMMARY:Visitation
DESCRIPTION:
URL:https://www.brooksfuneralhomeky.com/obituaries/david-srygler
LOCATION: 50 Main Street  Munfordville KY 42765
GEO:37.2705728;-85.8878369
END:VEVENT
END:VCALENDAR