BEGIN:VCALENDAR
VERSION:2.0
PRODID:-//Tukios.com/
BEGIN:VEVENT
UID:41763f8c-a95c-4236-8974-9969ff24c9b1@www.brooksfuneralhomeky.com
DTSTAMP:20260422T233214Z
DTSTART:20260424T180000Z
DTEND:20260424T190000Z
SUMMARY:Funeral Service
DESCRIPTION:
URL:https://www.brooksfuneralhomeky.com/obituaries/david-srygler
LOCATION: 50 Main Street  Munfordville KY 42765
GEO:37.2705728;-85.8878369
END:VEVENT
END:VCALENDAR