BEGIN:VCALENDAR
VERSION:2.0
PRODID:-//Tukios.com/
BEGIN:VEVENT
UID:24e83b72-9e3e-4e66-a852-cfe51e489af3@www.brooksfuneralhomeky.com
DTSTAMP:20260425T033020Z
DTSTART:20260428T160000Z
DTEND:20260428T180000Z
SUMMARY:Visitation
DESCRIPTION:
URL:https://www.brooksfuneralhomeky.com/obituaries/kenneth-gaines
LOCATION: 50 Main Street  Munfordville KY 42765
GEO:37.2705728;-85.8878369
END:VEVENT
END:VCALENDAR