BEGIN:VCALENDAR
VERSION:2.0
PRODID:-//Tukios.com/
BEGIN:VEVENT
UID:6a90b1e3-486e-4780-9303-b9f91e689641@www.brooksfuneralhomeky.com
DTSTAMP:20260425T032534Z
DTSTART:20260428T180000Z
DTEND:20260428T190000Z
SUMMARY:Funeral Service
DESCRIPTION:
URL:https://www.brooksfuneralhomeky.com/obituaries/kenneth-gaines
LOCATION: 50 Main Street  Munfordville KY 42765
GEO:37.2705728;-85.8878369
END:VEVENT
END:VCALENDAR